BEGIN:VCALENDAR
CALSCALE:GREGORIAN
X-WR-TIMEZONE;VALUE=TEXT:GMT
PRODID:PEAK Corporation - piCal -
X-WR-CALNAME;VALUE=TEXT:三遊亭王楽 改メ 七代目三遊亭円楽襲名披露興行
VERSION:2.0
METHOD:PUBLISH
BEGIN:VTIMEZONE
TZID:GMT
BEGIN:STANDARD
DTSTART:19390101T000000
TZOFFSETFROM:+0000
TZOFFSETTO:+0000
TZNAME:GMT
END:STANDARD
END:VTIMEZONE
BEGIN:VEVENT
DTSTART:20250505T033000Z
DTEND:20250505T080000Z
LOCATION:〒790-0007 愛媛県松山市堀之内５　松山市民会館　大ホール
TRANSP:OPAQUE
SEQUENCE:0
UID:pical060-df766c8408f42c787caf9a3532ff1c6b
DTSTAMP:20250421T100744Z
CATEGORIES:松山市内
DESCRIPTION:全席指定5,000円\n出演者	三遊亭円楽・三遊亭小遊三・林家たい平・柳家三三・三遊亭好一郎、ほか
SUMMARY:三遊亭王楽 改メ 七代目三遊亭円楽襲名披露興行
PRIORITY:0
CLASS:PUBLIC
END:VEVENT
END:VCALENDAR
